BEGIN:VCALENDAR
VERSION:2.0
PRODID:-//EventiFVG.it - ECPv6.15.20//NONSGML v1.0//EN
CALSCALE:GREGORIAN
METHOD:PUBLISH
X-WR-CALNAME:EventiFVG.it
X-ORIGINAL-URL:https://www.eventifvg.it
X-WR-CALDESC:Eventi per EventiFVG.it
REFRESH-INTERVAL;VALUE=DURATION:PT1H
X-Robots-Tag:noindex
X-PUBLISHED-TTL:PT1H
BEGIN:VTIMEZONE
TZID:Europe/Rome
BEGIN:DAYLIGHT
TZOFFSETFROM:+0100
TZOFFSETTO:+0200
TZNAME:CEST
DTSTART:20250330T010000
END:DAYLIGHT
BEGIN:STANDARD
TZOFFSETFROM:+0200
TZOFFSETTO:+0100
TZNAME:CET
DTSTART:20251026T010000
END:STANDARD
BEGIN:DAYLIGHT
TZOFFSETFROM:+0100
TZOFFSETTO:+0200
TZNAME:CEST
DTSTART:20260329T010000
END:DAYLIGHT
BEGIN:STANDARD
TZOFFSETFROM:+0200
TZOFFSETTO:+0100
TZNAME:CET
DTSTART:20261025T010000
END:STANDARD
BEGIN:DAYLIGHT
TZOFFSETFROM:+0100
TZOFFSETTO:+0200
TZNAME:CEST
DTSTART:20270328T010000
END:DAYLIGHT
BEGIN:STANDARD
TZOFFSETFROM:+0200
TZOFFSETTO:+0100
TZNAME:CET
DTSTART:20271031T010000
END:STANDARD
END:VTIMEZONE
BEGIN:VEVENT
DTSTART;TZID=Europe/Rome:20260421T180000
DTEND;TZID=Europe/Rome:20260421T190000
DTSTAMP:20260421T014649
CREATED:20260417T075849Z
LAST-MODIFIED:20260417T075849Z
UID:10104655-1776794400-1776798000@www.eventifvg.it
SUMMARY:Pablo MAURETTE // La niña de oro
DESCRIPTION:In un angusto appartamento di una grigia Buenos Aires viene ritrovato un cadavere\, rigido da settimane e che porta segni di tortura. Appartiene al professore di biologia Aníbal Doliner\, noto tra i colleghi del liceo per essere un tipo solitario\, ai limiti della misantropia. Un giallo dalla sofisticata precisione narrativa in cui non mancano colpi di scena\, personaggi e atmosfere degni di un film di David Lynch \n✍️𝗣𝗔𝗕𝗟𝗢 𝗠𝗔𝗨𝗥𝗘𝗧𝗧𝗘 (Buenos Aires\, 1979) è laureato in Filosofia\, ha un dottorato in Letteratura comparata e insegna alla Florida State University. Ha pubblicato saggi e romanzi su letteratura\, scienza e storia delle idee\, e collabora con diverse testate giornalistiche internazionali\, tra cui «la Repubblica». Nel 2022 è uscito in Italia il suo romanzo Il tempo è un fiume. \n🎤ne parla con 𝗙𝗔𝗕𝗜𝗔𝗡𝗔 𝗠𝗔𝗥𝗧𝗜𝗡𝗜.  \n—————–𝐈𝐧𝐠𝐫𝐞𝐬𝐬𝐨 𝐥𝐢𝐛𝐞𝐫𝐨 𝐞 𝐠𝐫𝐚𝐭𝐮𝐢𝐭𝐨.𝐈𝐍𝐅𝐎 & 𝐏𝐑𝐄𝐍𝐎𝐓𝐀𝐙𝐈𝐎𝐍𝐈🔗 https://www.librerielovat.com/ev/event/pablo-maurette/­
URL:https://www.eventifvg.it/evento/pablo-maurette-la-nina-de-oro/
LOCATION:Lovat Trieste
CATEGORIES:Trieste e Provincia
ATTACH;FMTTYPE=image/jpeg:https://www.eventifvg.it/wp-content/uploads/2026/04/131340_image_668942745_1629684885830951_1622313172772311313_n.jpg
ORGANIZER;CN="Lovat Trieste":MAILTO:noreply@facebookmail.com
END:VEVENT
BEGIN:VEVENT
DTSTART;TZID=Europe/Rome:20260421T200000
DTEND;TZID=Europe/Rome:20260421T230000
DTSTAMP:20260421T014649
CREATED:20260324T173732Z
LAST-MODIFIED:20260324T173732Z
UID:10104286-1776801600-1776812400@www.eventifvg.it
SUMMARY:21. 4. Myrath\, Roses of Thieves - Orto bar
DESCRIPTION:Vstopnice prek On-Parole! 22 evrov v predprodaji\, 25 evrov na dan.https://www.on-parole.com/si/vstopnice/7999-myrath-21042026-ljubljana-ticket.htmlTickets through On-Parole! 22 euro in presale\, 25 euro on show day!https://www.on-parole.com/en/tickets/7999-myrath-21042026-ljubljana-ticket.html \nPripravi se na nepozaben glasbeni dogodek – v Ljubljano prihaja eden najbolj edinstvenih in karizmatičnih metal bendov današnjega časa: MYRATH! 🇹🇳Tunizijski mojstri progresivnega in orientalskega metala bodo 21. aprila 2026 nastopili v Orto Baru\, kjer nas čaka eksploziven večer močnih riffov\, mističnih melodij in epske energije\, ki jo zna pričarati samo Myrath. \nMyrath so v zadnjem desetletju osvojili srca poslušalcev po vsem svetu z edinstveno kombinacijo zahodnega metala in bogate orientalske tradicije. Njihov zvok prepleta mogočne vokale\, razkošne harmonije\, čarobne orkestracije in energijo\, ki v živo resnično zaživi.S svojimi albumi\, kot sta Shehili in Karma\, so dokazali\, da spadajo med najbolj inovativne in prepoznavne skupine sodobne metal scene. \nOder jim bodo ogreli madžarski Roses of Thieves. \nMYRATHhttps://www.facebook.com/myrathband \nROSES OF THIEVEShttps://www.facebook.com/rosesofthieves/
URL:https://www.eventifvg.it/evento/21-4-myrath-roses-of-thieves-orto-bar/
LOCATION:Orto Bar\, Grablovičeva ulica 1\, Ljubljana\, 1000\, SI
CATEGORIES:Slovenia
ATTACH;FMTTYPE=image/jpeg:https://www.eventifvg.it/wp-content/uploads/2026/03/130514_image_620062815_1740928086969403_3111442482773773094_n.jpg
ORGANIZER;CN="Veseli Dihur%C4%8Dki":MAILTO:noreply@facebookmail_com
END:VEVENT
BEGIN:VEVENT
DTSTART;TZID=Europe/Rome:20260421T210000
DTEND;TZID=Europe/Rome:20260422T000000
DTSTAMP:20260421T014649
CREATED:20260406T135252Z
LAST-MODIFIED:20260406T135252Z
UID:10104425-1776805200-1776816000@www.eventifvg.it
SUMMARY:NEL BLU - Avere tra le braccia tanta felicità
DESCRIPTION:Uno spettacolo pieno di passione e ardore. L’omaggio a Modugno e alla sua arte è l’occasione per ricordare un momento in cui il nostro Paese pareva felice e la gente era carica di futuro negli occhi. \nNEL BLU – Avere tra le braccia tanta felicitàuno spettacolo di e con > Mario Perrottacollaborazione alla regia > Paola Rosciolimusiche > Domenico Modugnoarrangiamenti ed ensemble > Vanni Crociani\, Massimo Marches\, Giuseppe Franchellucci\, Mario Perrotta👇BIGLIETTERIA / TEATRONuovo Teatro Comunale di Gradiscavia Ciotti\, 1 | tel. 0481.969753 \nPREVENDITAogni martedì > dalle ore 17 alle ore 19ogni sabato > dalle ore 10.30 alle ore 12.30online: https://www.artistiassociatigorizia.it/events/nel-blu-teatro-gradisca-25-26/
URL:https://www.eventifvg.it/evento/nel-blu-avere-tra-le-braccia-tanta-felicita/
LOCATION:Via Ciotti\, 1\, 34072 Gradisca d’Isonzo\, Via Ciotti\, 1\, 34072 Gradisca d'Isonzo\, Italy\, Gradisca d'Isonzo\, go\, Italia
CATEGORIES:Gorizia e Provincia
ATTACH;FMTTYPE=image/jpeg:https://www.eventifvg.it/wp-content/uploads/2026/04/130823_image_658362668_1279007337628770_6912032349908215302_n.jpg
END:VEVENT
END:VCALENDAR