BEGIN:VCALENDAR
VERSION:2.0
PRODID:-//EventiFVG.it - ECPv6.15.20//NONSGML v1.0//EN
CALSCALE:GREGORIAN
METHOD:PUBLISH
X-WR-CALNAME:EventiFVG.it
X-ORIGINAL-URL:https://www.eventifvg.it
X-WR-CALDESC:Eventi per EventiFVG.it
REFRESH-INTERVAL;VALUE=DURATION:PT1H
X-Robots-Tag:noindex
X-PUBLISHED-TTL:PT1H
BEGIN:VTIMEZONE
TZID:Europe/Rome
BEGIN:DAYLIGHT
TZOFFSETFROM:+0100
TZOFFSETTO:+0200
TZNAME:CEST
DTSTART:20250330T010000
END:DAYLIGHT
BEGIN:STANDARD
TZOFFSETFROM:+0200
TZOFFSETTO:+0100
TZNAME:CET
DTSTART:20251026T010000
END:STANDARD
BEGIN:DAYLIGHT
TZOFFSETFROM:+0100
TZOFFSETTO:+0200
TZNAME:CEST
DTSTART:20260329T010000
END:DAYLIGHT
BEGIN:STANDARD
TZOFFSETFROM:+0200
TZOFFSETTO:+0100
TZNAME:CET
DTSTART:20261025T010000
END:STANDARD
BEGIN:DAYLIGHT
TZOFFSETFROM:+0100
TZOFFSETTO:+0200
TZNAME:CEST
DTSTART:20270328T010000
END:DAYLIGHT
BEGIN:STANDARD
TZOFFSETFROM:+0200
TZOFFSETTO:+0100
TZNAME:CET
DTSTART:20271031T010000
END:STANDARD
END:VTIMEZONE
BEGIN:VEVENT
DTSTART;TZID=Europe/Rome:20260420T190000
DTEND;TZID=Europe/Rome:20260420T233000
DTSTAMP:20260420T013104
CREATED:20251114T175900Z
LAST-MODIFIED:20251114T175900Z
UID:10101977-1776711600-1776727800@www.eventifvg.it
SUMMARY:IL CERVELLONE al The Orion’s Pub - Sevegliano - Udine
DESCRIPTION:IL CERVELLONEIL CERVELLONE\, The Orion’s Pub\, Sevegliano\, Udine\nHAI GIÀ PRENOTATO?\nLunedì c’è 1 certezza\, 1 soltanto…\nAl The Orion’s Pub c’è la serata de IL CERVELLONE e trovare un tavolo senza prenotazione sta diventando sempre più difficile\, per cui ti consigliamo di prenotare per tempo!!\nSPICCIATI…è un consiglio \nNon sai ancora cos’è la serata de IL CERVELLONE? Potrai cenare o “spiluccare” giocando al Quiz interattivo più famoso dopo “Gira la ruota”.\nSfida\, divertimento\, birre TOP e BURGERS squisititi.\nEcco in sunto cosa ti puoi aspettare \nMa ricordati di prenotare per tempo!!!\nThe Orion’s Staff \nLink prenotazione \nThe Orion’s Pub\nPiazza Sant’Andrea 14 Sevegliano – Udine –\nLink diretto WApp  https://wa.me/message/4VHXKXTOJUIQN1
URL:https://www.eventifvg.it/evento/il-cervellone-al-the-orions-pub-sevegliano-udine/2026-04-20/
LOCATION:The Orion’s – Pub & Beer BQ\, The Orion's - Pub & Beer BQ
CATEGORIES:Udine e Provincia
ATTACH;FMTTYPE=image/jpeg:https://www.eventifvg.it/wp-content/uploads/2025/11/492220073_1301378414855113_8756774425364037851_n.jpg
ORGANIZER;CN="The Orion's - Pub & Beer BQ":MAILTO:noreply@facebookmail_com
GEO:45.8873574;13.3016108
X-APPLE-STRUCTURED-LOCATION;VALUE=URI;X-ADDRESS=The Orion’s – Pub & Beer BQ The Orion's - Pub & Beer BQ;X-APPLE-RADIUS=500;X-TITLE=The Orion's - Pub & Beer BQ:geo:13.3016108,45.8873574
END:VEVENT
BEGIN:VEVENT
DTSTART;TZID=Europe/Rome:20260420T200000
DTEND;TZID=Europe/Rome:20260420T213000
DTSTAMP:20260420T013104
CREATED:20260121T181018Z
LAST-MODIFIED:20260121T181018Z
UID:10103325-1776715200-1776720600@www.eventifvg.it
SUMMARY:VERONIKA DESENIŠKA - Abonma SSG
DESCRIPTION:(ne)mirne duše/anime (in)quietehttps://www.teaterssg.com/abonma-v-gorici/🇸🇮Oton ŽupančičVERONIKA DESENIŠKARežiserkaMaruša KinkProdukcijaSlovensko stalno gledališčeLjubezenska in psihološka drama temelji na zgodovinskih dogodkih o prepovedani ljubezni med Friderikom II. Celjskim in Veroniko Deseniško\, ki jo je njegov oče\, grof Herman II. Celjski\, obtožil čarovništva. Veronika ostaja simbol poguma in upora proti moči in krivici v času\, ko je bilo zatiranje žensk\, kot tudi podleganje neutemeljenim predsodkom\, ustaljena praksa. \nProgram za goriške abonente obsega pet uprizoritev SSG\, gostujočo predstavo in dva dogodka Kulturnega doma in Kulturnega centra Lojze Bratuž v Gorici. Vse dramske predstave so opremljene z italijanskimi nadnapisi. Brezplačen prevoz iz okolice Gorice je možen po dogovoru (rezervacije pri blagajni Kulturnega doma Gorica). \nKulturni dom Goricaponedeljek-petek: 9.00-13.00 / 15.00-18.00Ul. I. Brass 20tel +39 0481 33288e-pošta: info@kulturnidom.it \nKulturni center Lojze BratužDrevored 20. septembra 85tel +39 0481 531445e-pošta: info@centerbratuz.org \n🇮🇹Oton ŽupančičVERONICA DI DESENICERegiaMaruša KinkProduzioneTeatro Stabile SlovenoIl dramma sentimentale e psicologico si basa su eventi storici e narra la storia d’amore proibita tra Friderik II di Celje e Veronica di Desenice\, contrastata dal padre di Friderik\, il conte Herman II di Celje\, che la accusò di stregoneria. Veronika è un simbolo di coraggio e ribellione contro il potere e l’ingiustizia in un tempo in cui la repressione delle donne\, insieme all’accettazione del pregiudizio\, era prassi comune. \nIl programma in abbonamento per gli abbonati di Gorizia comprende cinque produzioni TSS\, uno spettacolo ospite e due eventi proposti dal Kulturni dom e del Centro culturale Lojze Bratuž a Gorizia. Tutti gli spettacoli di prosa sono sovratitolati in italiano. Il servizio gratuito di navetta dai dintorni di Gorizia è disponibile su richiesta (prenotazioni presso la biglietteria del Kulturni dom di Gorizia). \nKulturni dom\, Goriziada lunedì a venerdì: 9.00-13.00\, / 15.00-18.00.via I. Brass 20\,tel +39 0481 33288e-mail: info@kulturnidom.it \nKulturni center Lojze BratužViale XX settembre 85\,tel +39 0481 531445e-mail: info@centerbratuz.org
URL:https://www.eventifvg.it/evento/veronika-deseniska-abonma-ssg/
LOCATION:Kulturni dom Gorica\, Kulturni dom Gorica
CATEGORIES:Italia
ATTACH;FMTTYPE=image/jpeg:https://www.eventifvg.it/wp-content/uploads/2026/01/eventifvg_2026-04.jpg
ORGANIZER;CN="Kulturni dom Gorica":MAILTO:noreply@facebookmail.com
GEO:45.9481267;13.6231069
X-APPLE-STRUCTURED-LOCATION;VALUE=URI;X-ADDRESS=Kulturni dom Gorica Kulturni dom Gorica;X-APPLE-RADIUS=500;X-TITLE=Kulturni dom Gorica:geo:13.6231069,45.9481267
END:VEVENT
BEGIN:VEVENT
DTSTART;TZID=Europe/Rome:20260420T203000
DTEND;TZID=Europe/Rome:20260420T223000
DTSTAMP:20260420T013104
CREATED:20260417T075846Z
LAST-MODIFIED:20260417T075846Z
UID:10104653-1776717000-1776724200@www.eventifvg.it
SUMMARY:AVI AVITAL e LORENZO COSSI | Stagione Concertistica 94
DESCRIPTION:Avi Avital\, uno dei pochi mandolinisti al mondo ad aver portato il suo strumento sui palcoscenici internazionali della musica. \nLa Società dei Concerti Trieste lo accoglie al Teatro G.Verdi Trieste insieme al pianista Lorenzo Cossi. \nIl mandolino\, nelle sue mani\, cambia prospettiva: da tradizione a linguaggio contemporaneo\, da radice popolare a forma da concerto. \nUn programma che attraversa epoche e culture\, unendo Bach\, Mozart\, De Falla e il Novecento in un unico percorso. \n📅 Lunedì 20 aprile 2026📍 Teatro G.Verdi Trieste🎶 Alle ore 19.15 “Note d’Artista”\, incontro con gli artisti presso il Ridotto del Teatro Verdi – accesso libero. \nhttps://www.societadeiconcerti.it/94-1533
URL:https://www.eventifvg.it/evento/avi-avital-e-lorenzo-cossi-stagione-concertistica-94/
LOCATION:Teatro Lirico Giuseppe Verdi
CATEGORIES:Italia
ATTACH;FMTTYPE=image/jpeg:https://www.eventifvg.it/wp-content/uploads/2026/04/131335_image_657566759_1526532606140891_3636861262691025083_n.jpg
END:VEVENT
BEGIN:VEVENT
DTSTART;TZID=Europe/Rome:20260420T210000
DTEND;TZID=Europe/Rome:20260421T000000
DTSTAMP:20260420T013105
CREATED:20251018T233052Z
LAST-MODIFIED:20251018T233052Z
UID:10101266-1776718800-1776729600@www.eventifvg.it
SUMMARY:GORAN BREGOVIĆ & THE WEDDING AND FUNERAL BAND ● Trieste\, Politeama Rossetti ● 20.04.2026
DESCRIPTION:[ NUOVO ANNUNCIO ] ✨ GORAN BREGOVIĆ in concerto al Politeama Rossetti di Trieste! 🗓️ 20 aprile 2026🎺 GORAN BREGOVIĆ & THE WEDDING AND FUNERAL BAND🎟️ Biglietti già disponibili su Ticketone\, Vivaticket e Eventim.si 👉 bit.ly/bregovicTS2026 \nDopo il successo del tour estivo e l’annuncio del Premio Tenco alla carriera\, il maestro balcanico torna in Italia con la sua inconfondibile Wedding and Funeral Band per un nuovo appuntamento carico di emozione e intensità.💥 Un viaggio musicale senza confini\, dove le sonorità dei Balcani incontrano la poesia universale della sua musica.🎶 Da “Kalashnikov” a “Ederlezi”\, dai grandi classici alle nuove composizioni: la magia di Goran Bregović torna a Trieste\, sul palcoscenico del Politeama Rossetti!
URL:https://www.eventifvg.it/evento/goran-bregovic-the-wedding-and-funeral-band-%e2%97%8f-trieste-politeama-rossetti-%e2%97%8f-20-04-2026/
LOCATION:Il Rossetti\, Il Rossetti
CATEGORIES:Trieste e Provincia
ATTACH;FMTTYPE=image/jpeg:https://www.eventifvg.it/wp-content/uploads/2025/10/eventifvg_2025-11-02.jpg
ORGANIZER;CN="Vigna PR":MAILTO:noreply@facebookmail_com
GEO:42.0359519;-87.9597026
X-APPLE-STRUCTURED-LOCATION;VALUE=URI;X-ADDRESS=Il Rossetti Il Rossetti;X-APPLE-RADIUS=500;X-TITLE=Il Rossetti:geo:-87.9597026,42.0359519
END:VEVENT
BEGIN:VEVENT
DTSTART;TZID=Europe/Rome:20260420T213000
DTEND;TZID=Europe/Rome:20260421T003000
DTSTAMP:20260420T013105
CREATED:20260417T075847Z
LAST-MODIFIED:20260417T075847Z
UID:10104654-1776720600-1776731400@www.eventifvg.it
SUMMARY:Umberto Porcaro Band
DESCRIPTION:Umberto Porcaro \, classe 1979\, suona la chitarra da 30 anni. La sua passione per il Blues nasce in tenera età e lo porta a suonare con i più grandi bluesman internazionali. Dopo le prime esperienze con band locali\, Umberto visita Chicago per la prima volta\, dove si esibisce con Billy Branch and The Sons of Blues\, Fernando Jones\, Eomot Rasun\, Johnny Dollar. Pubblica il suo primo disco “You Belong To Me”\, seguito da “Burn The Day Away”\, riscuotendo grande successo dalla stampa nazionale e internazionale.Successivamente vince le audizioni per “Obiettivo Blues In”\, durante il Pistoia Blues Festival\, guadagnandosi la possibilità di esibirsi con artisti straordinari come BB KING\, BUDDY GUY\, ROBBEN FORD\, ROY ROGERS\, CANNET HEAT\, THE BLUES BAND e di essere incluso nella compilation dell’album del Pistoia Blues Festival. Umberto si trasferisce negli Stati Uniti\, tra Los Angeles e San Francisco. Qui ha modo di esibirsi nei più famosi club Blues d’America\, come il Café Boogaloo di Hermosa Beach (Los Angeles)\, il The Saloon (San Francisco)\, il Mojo Lounge (Freemont) e il “Biscuit and Blues” sempre a San Francisco. Durante il suo soggiorno in California\, Umberto incontra altri grandi artisti Blues come Kim Wilson\, Kid Ramos\, Junior Watson\, Murk\, Hollywood Blues Flames. \nCon questa nuova band capitanata da Giulio Campagnolo (organo Hammond) e Federico Patarnello alla batteria\, Umberto Porcaro presenta questo nuovo progetto\, un mix di Soul-Jazz\, Gospel e Blues carico di tanta esperienza e di tante strade percorse.
URL:https://www.eventifvg.it/evento/umberto-porcaro-band/
LOCATION:Via Gorizia 2C\, 33077 Sacile
CATEGORIES:Pordenone e Provincia
ATTACH;FMTTYPE=image/jpeg:https://www.eventifvg.it/wp-content/uploads/2026/04/131338_image_643863940_1687663029246482_3965163915963697875_n.jpg
ORGANIZER;CN="Tepepa":MAILTO:noreply@facebookmail_com
END:VEVENT
END:VCALENDAR